BEGIN:VCALENDAR
VERSION:2.0
PRODID:icalendar-ruby
CALSCALE:GREGORIAN
METHOD:PUBLISH
BEGIN:VEVENT
DTSTAMP:20260423T193612Z
UID:14-415300@fayettevilleumc.tithelysetup5.com
DTSTART:20260425T040000Z
DTEND:20260425T180000Z
CLASS:PUBLIC
CREATED:20260423T113113
DESCRIPTION:
LAST-MODIFIED:20260423T113113
LOCATION:
SUMMARY:Chicken and Biscuits
URL;VALUE=URI:https://fayettevilleumc.org/events/chicken-and-biscuits/2026-
 04-25
ATTACH;FILENAME=Your-paragraph-text-24.png;FMTTYPE=image/png:https://dq5pwp
 g1q8ru0.cloudfront.net/2026/04/23/15/31/13/72731f52-cd5c-433a-9bd9-efeb5f9
 c6e38/Your-paragraph-text-24.png
END:VEVENT
END:VCALENDAR
