BEGIN:VCALENDAR
VERSION:2.0
PRODID:icalendar-ruby
CALSCALE:GREGORIAN
METHOD:PUBLISH
BEGIN:VEVENT
DTSTAMP:20260424T115506Z
UID:15-415602@fayettevilleumc.tithelysetup5.com
DTSTART:20260516T160000Z
DTEND:20260516T180000Z
CLASS:PUBLIC
CREATED:20260423T130115
DESCRIPTION:
LAST-MODIFIED:20260423T130115
LOCATION:
SUMMARY:Ice Cream Social 
URL;VALUE=URI:https://fayettevilleumc.org/events/ice-cream-social/2026-05-1
 6
ATTACH;FILENAME=ice-cream.jpg;FMTTYPE=image/jpeg:https://dq5pwpg1q8ru0.clou
 dfront.net/2026/04/23/17/01/15/b7f66ce6-a3d6-4101-9480-9a87e8f32829/ice-cr
 eam.jpg
END:VEVENT
END:VCALENDAR
